BEGIN:VCALENDAR
VERSION:2.0
PRODID:-// - ECPv6.15.20//NONSGML v1.0//EN
CALSCALE:GREGORIAN
METHOD:PUBLISH
X-ORIGINAL-URL:https://cosenza.arcigay.it
X-WR-CALDESC:Eventi per 
REFRESH-INTERVAL;VALUE=DURATION:PT1H
X-Robots-Tag:noindex
X-PUBLISHED-TTL:PT1H
BEGIN:VTIMEZONE
TZID:Europe/Rome
BEGIN:DAYLIGHT
TZOFFSETFROM:+0100
TZOFFSETTO:+0200
TZNAME:CEST
DTSTART:20230326T010000
END:DAYLIGHT
BEGIN:STANDARD
TZOFFSETFROM:+0200
TZOFFSETTO:+0100
TZNAME:CET
DTSTART:20231029T010000
END:STANDARD
BEGIN:DAYLIGHT
TZOFFSETFROM:+0100
TZOFFSETTO:+0200
TZNAME:CEST
DTSTART:20240331T010000
END:DAYLIGHT
BEGIN:STANDARD
TZOFFSETFROM:+0200
TZOFFSETTO:+0100
TZNAME:CET
DTSTART:20241027T010000
END:STANDARD
BEGIN:DAYLIGHT
TZOFFSETFROM:+0100
TZOFFSETTO:+0200
TZNAME:CEST
DTSTART:20250330T010000
END:DAYLIGHT
BEGIN:STANDARD
TZOFFSETFROM:+0200
TZOFFSETTO:+0100
TZNAME:CET
DTSTART:20251026T010000
END:STANDARD
END:VTIMEZONE
BEGIN:VEVENT
DTSTART;TZID=Europe/Rome:20240510T200000
DTEND;TZID=Europe/Rome:20240510T220000
DTSTAMP:20260424T222654
CREATED:20240507T113618Z
LAST-MODIFIED:20240511T175112Z
UID:2103-1715371200-1715378400@cosenza.arcigay.it
SUMMARY:Proiezione film "IL MIO POSTO È QUI"
DESCRIPTION:È in arrivo la Prima Nazionale del film “IL MIO POSTO È QUI” sostenuto dalla Calabria Film Commission ed interamente girato in Calabria.\nLa proiezione si terrà venerdì 10 maggio 2024 alle ore 20:15 al Cinema San Nicola di Cosenza (Via Rivocati) alla presenza del produttore\, del regista e degli interpreti principali. \nPer l’occasione è riservato alle persone associate Arcigay Cosenza e Arci Cosenza il prezzo ridotto del biglietto d’ingresso a € 5\,00 anziché ad € 8\,00. \nIl film è stato presentato in gara alla 15ª edizione del Bari International Film Festival\, in cui ha vinto il premio alla miglior regia e alla miglior attrice per l’interpretazione di Ludovica Martino. Ambientato in un piccolo paese calabrese\, all’indomani della fine della Seconda Guerra mondiale\, il film racconta la storia di amicizia e di emancipazione in un tempo e un luogo dominati ancora da una radicata cultura patriarcale. \nAlla fine della proiezione è previsto l’incontro con la regista Daniela Porto\, il produttore e gli interpreti insieme ai presidenti di Arci Cosenza e Arcigay Cosenza.
URL:https://cosenza.arcigay.it/evento/proiezione-film-il-mio-posto-e-qui/
LOCATION:Cinema San Nicola\, Via Rivocati\, Cosenza\, Italia\, 87100\, Italia
CATEGORIES:Eventi
ATTACH;FMTTYPE=image/jpeg:https://cosenza.arcigay.it/wp-content/uploads/2024/05/Il-mio-posto-e-qui.jpeg
ORGANIZER;CN="Arcigay Cosenza":MAILTO:cosenza@arcigay.it
END:VEVENT
BEGIN:VEVENT
DTSTART;TZID=Europe/Rome:20240511T233000
DTEND;TZID=Europe/Rome:20240512T030000
DTSTAMP:20260424T222654
CREATED:20240503T201956Z
LAST-MODIFIED:20240511T175054Z
UID:2084-1715470200-1715482800@cosenza.arcigay.it
SUMMARY:United 4 PRIDE
DESCRIPTION:Queer Monsters – United 4 Pride\nUltimo appuntamento di questa mostruosissima stagione e\, raccogliendo le ultime forze\, ci ritroviamo insieme appassionatamente per salutarci\, scatenarci in pista\, ma soprattutto per sostenere una causa importantissima.\nL’evento finale sarà infatti dedicato alla raccolta fondi per la realizzazione del Pride che si terrà a giugno nella nostra città: una parte del ricavato della serata verrà destinato al comitato organizzatore del Cosenza Pride 2024 \nAiutateci a condividere il post\, è importante la partecipazione di ogni persona! United 4 Pride: più siamo\, più sosteniamo! \nVi aspettiamo sabato 11 Maggio ore 23.30 come sempre al MOOD.\nPer accedere è necessario avere la tessera del locale. No liste\, no prevendite.
URL:https://cosenza.arcigay.it/evento/united-4-pride/
LOCATION:MOOD\, Via Fratelli Bandiera 96\, Rende\, Italia\, 87036\, Italia
CATEGORIES:Eventi,Serate
ATTACH;FMTTYPE=image/png:https://cosenza.arcigay.it/wp-content/uploads/2024/05/Immagine-2024-05-03-221015.png
ORGANIZER;CN="Arcigay Cosenza":MAILTO:cosenza@arcigay.it
END:VEVENT
END:VCALENDAR