BEGIN:VCALENDAR
VERSION:2.0
PRODID:-// - ECPv6.15.20//NONSGML v1.0//EN
CALSCALE:GREGORIAN
METHOD:PUBLISH
X-ORIGINAL-URL:https://cosenza.arcigay.it
X-WR-CALDESC:Eventi per 
REFRESH-INTERVAL;VALUE=DURATION:PT1H
X-Robots-Tag:noindex
X-PUBLISHED-TTL:PT1H
BEGIN:VTIMEZONE
TZID:Europe/Rome
BEGIN:DAYLIGHT
TZOFFSETFROM:+0100
TZOFFSETTO:+0200
TZNAME:CEST
DTSTART:20240331T010000
END:DAYLIGHT
BEGIN:STANDARD
TZOFFSETFROM:+0200
TZOFFSETTO:+0100
TZNAME:CET
DTSTART:20241027T010000
END:STANDARD
BEGIN:DAYLIGHT
TZOFFSETFROM:+0100
TZOFFSETTO:+0200
TZNAME:CEST
DTSTART:20250330T010000
END:DAYLIGHT
BEGIN:STANDARD
TZOFFSETFROM:+0200
TZOFFSETTO:+0100
TZNAME:CET
DTSTART:20251026T010000
END:STANDARD
BEGIN:DAYLIGHT
TZOFFSETFROM:+0100
TZOFFSETTO:+0200
TZNAME:CEST
DTSTART:20260329T010000
END:DAYLIGHT
BEGIN:STANDARD
TZOFFSETFROM:+0200
TZOFFSETTO:+0100
TZNAME:CET
DTSTART:20261025T010000
END:STANDARD
END:VTIMEZONE
BEGIN:VEVENT
DTSTART;TZID=Europe/Rome:20250430T210000
DTEND;TZID=Europe/Rome:20250501T000000
DTSTAMP:20260423T064634
CREATED:20250422T125435Z
LAST-MODIFIED:20250422T125435Z
UID:4474-1746046800-1746057600@cosenza.arcigay.it
SUMMARY:Back to BAK - Karaoke Night
DESCRIPTION:Siamo all’ultimo appuntamento della stagione e non potevamo non riunire insieme Zia Gina\, Rateds e Feliçia Malinconique Rococò! \nUna serata di karaoke e divertimento\, intervallata a grande richiesta dalla Posta del Cu…ore di Zia Gina. \nVi aspettiamo mercoledì 30 aprile alle 21:00\, come sempre al BAK\, in Via del Tembien\, a Cosenza \nChi vorrà\, potrà sostenerci acquistando i nostri gadget o sottoscrivendo la tessera Arcigay. \nINGRESSO 3€ con shot incluso. Per prenotazioni: 3474523724
URL:https://cosenza.arcigay.it/evento/back-to-bak-karaoke-night/
LOCATION:BAK\, via del Tembien\, Cosenza\, Italia\, 87100\, Italia
ATTACH;FMTTYPE=image/jpeg:https://cosenza.arcigay.it/wp-content/uploads/2025/04/6037090749943759504-1.jpg
ORGANIZER;CN="Arcigay Cosenza":MAILTO:cosenza@arcigay.it
END:VEVENT
BEGIN:VEVENT
DTSTART;TZID=Europe/Rome:20250115T210000
DTEND;TZID=Europe/Rome:20250116T000000
DTSTAMP:20260423T064634
CREATED:20250109T112306Z
LAST-MODIFIED:20250109T112340Z
UID:3950-1736974800-1736985600@cosenza.arcigay.it
SUMMARY:Back to BAK - Trio FREE LOVE & NERISHA
DESCRIPTION:Il nuovo appuntamento di Back to BAK è una serata musicale con i mitici Free Love!\n\nGià ospiti del Cosenza Pride e autori della sigla della parata\, i Free Love ci delizieranno con una serata indimenticabile.\nAccompagnerà lo spettacolo\, per la prima volta al BAK\, Nerisha\n\nCome sempre\, sarà possibile sostenerci acquistando i nostri gadget o sottoscrivendo la tessera Arcigay.\nVi aspettiamo mercoledì 15 gennaio alle 21:00!\n\nINGRESSO 3€ con shot incluso. Per prenotazioni: 3474523724
URL:https://cosenza.arcigay.it/evento/back-to-bak-trio-free-love-nerisha/
LOCATION:BAK\, via del Tembien\, Cosenza\, Italia\, 87100\, Italia
ATTACH;FMTTYPE=image/jpeg:https://cosenza.arcigay.it/wp-content/uploads/2025/01/5764881220281418593.jpg
ORGANIZER;CN="Arcigay Cosenza":MAILTO:cosenza@arcigay.it
END:VEVENT
END:VCALENDAR