BEGIN:VCALENDAR
VERSION:2.0
PRODID:-// - ECPv6.15.20//NONSGML v1.0//EN
CALSCALE:GREGORIAN
METHOD:PUBLISH
X-ORIGINAL-URL:https://cosenza.arcigay.it
X-WR-CALDESC:Eventi per 
REFRESH-INTERVAL;VALUE=DURATION:PT1H
X-Robots-Tag:noindex
X-PUBLISHED-TTL:PT1H
BEGIN:VTIMEZONE
TZID:Europe/Rome
BEGIN:DAYLIGHT
TZOFFSETFROM:+0100
TZOFFSETTO:+0200
TZNAME:CEST
DTSTART:20240331T010000
END:DAYLIGHT
BEGIN:STANDARD
TZOFFSETFROM:+0200
TZOFFSETTO:+0100
TZNAME:CET
DTSTART:20241027T010000
END:STANDARD
BEGIN:DAYLIGHT
TZOFFSETFROM:+0100
TZOFFSETTO:+0200
TZNAME:CEST
DTSTART:20250330T010000
END:DAYLIGHT
BEGIN:STANDARD
TZOFFSETFROM:+0200
TZOFFSETTO:+0100
TZNAME:CET
DTSTART:20251026T010000
END:STANDARD
BEGIN:DAYLIGHT
TZOFFSETFROM:+0100
TZOFFSETTO:+0200
TZNAME:CEST
DTSTART:20260329T010000
END:DAYLIGHT
BEGIN:STANDARD
TZOFFSETFROM:+0200
TZOFFSETTO:+0100
TZNAME:CET
DTSTART:20261025T010000
END:STANDARD
END:VTIMEZONE
BEGIN:VEVENT
DTSTART;TZID=Europe/Rome:20250310T200000
DTEND;TZID=Europe/Rome:20250310T210000
DTSTAMP:20260423T084424
CREATED:20250220T141137Z
LAST-MODIFIED:20250220T141137Z
UID:4170-1741636800-1741640400@cosenza.arcigay.it
SUMMARY:Drag Yourself - II edizione
DESCRIPTION:Arcigay Cosenza e Otakube vi danno il benvenuto alla nuova edizione del laboratorio dedicato alla meravigliosa arte DRAG! \nDopo il successo della prima edizione\, riapre questo spazio progettato per celebrare l’espressione di sé\, l’individualità e la creatività attraverso l’arte della trasformazione insieme a Zia Gina e Rateds\, veterane della scena drag cosentina.\nL’anno scorso una numerosa classe si è cimentata con questa forma di intrattenimento spettacolare e trasgressiva che\, mescolando abilmente teatro\, moda\, musica e cultura\, diventa potente agente di cambiamento sociale\, sfidando le norme di genere e rompendo le barriere.\nSi parte il 10 marzo alle 20 con il primo appuntamento nella sede di Otakube\, presso la Città dei Ragazzi\, e si prosegue ogni lunedì alla stessa ora.\nÈ già possibile compilare il form di iscrizione a questo link.\nÈ previsto un contributo di 10€ mensili (5€ il primo mese se hai già la tessera) a mero titolo di acquisto materiali per il corso.
URL:https://cosenza.arcigay.it/evento/drag-yourself-ii-edizione/
LOCATION:Città dei Ragazzi\, Via Panebianco Trav. Suor Elena Aiello\, Cosenza\, Italia\, 87100\, Italia
CATEGORIES:Eventi
ATTACH;FMTTYPE=image/jpeg:https://cosenza.arcigay.it/wp-content/uploads/2025/02/Drag-Yourself-II-edizione.jpg
ORGANIZER;CN="Arcigay Cosenza":MAILTO:cosenza@arcigay.it
END:VEVENT
END:VCALENDAR